BEGIN:VCALENDAR
VERSION:2.0
PRODID:DPCALENDAR
CALSCALE:GREGORIAN
BEGIN:VTIMEZONE
TZID:America/Denver
X-MICROSOFT-CDO-TZID:12
BEGIN:STANDARD
DTSTART:20251102T080000
TZOFFSETFROM:-0600
TZOFFSETTO:-0700
TZNAME:MST
END:STANDARD
BEGIN:DAYLIGHT
DTSTART:20260308T090000
TZOFFSETFROM:-0700
TZOFFSETTO:-0600
TZNAME:MDT
END:DAYLIGHT
BEGIN:STANDARD
DTSTART:20261101T080000
TZOFFSETFROM:-0600
TZOFFSETTO:-0700
TZNAME:MST
END:STANDARD
END:VTIMEZONE
X-WR-TIMEZONE:America/Denver
BEGIN:VEVENT
DTSTART;VALUE=DATE:20260425
DTEND;VALUE=DATE:20260426
UID:781pljij3dg4p7d6p15o44l9co@google.com
SUMMARY:Golf (Varsity) at Harlowton Departure time 6:45 A.M. Golf Course Jaw Bone Creek Country Club
DTSTAMP:20260421T142003Z
DESCRIPTION:Returing between 6 and 7 p.m.
X-ALT-DESC;FMTTYPE=text/html:Returing between 6 and 7 p.m.
LAST-MODIFIED:20260421T142003Z
X-ACCESS:1
X-HITS:0
X-URL:https://www.google.com/calendar/event?eid=NzgxcGxqaWozZGc0cDdkNnAxNW80NGw5Y28gam9saWV0LmsxMi5tdC51c19mdjFtY25jZTI3cDc1cGJxczdpYTQ0YmNhNEBn
X-COLOR:16a765
END:VEVENT
END:VCALENDAR